Package: metaseqR2 Version: 1.18.0 Command: chmod a+r metaseqR2 -R && F:\biocbuild\bbs-3.20-bioc\R\bin\R.exe CMD build --keep-empty-dirs --no-resave-data metaseqR2 StartedAt: 2025-02-03 20:14:50 -0500 (Mon, 03 Feb 2025) EndedAt: 2025-02-03 20:23:38 -0500 (Mon, 03 Feb 2025) EllapsedTime: 528.4 seconds RetCode: 0 Status: OK PackageFile: metaseqR2_1.18.0.tar.gz PackageFileSize: 2.655 MiB