Package: metaseqR2 Version: 1.18.1 Command: /home/biocbuild/bbs-3.20-bioc/R/bin/R CMD check --install=check:metaseqR2.install-out.txt --library=/home/biocbuild/bbs-3.20-bioc/R/site-library --timings metaseqR2_1.18.1.tar.gz StartedAt: 2025-03-31 23:42:50 -0400 (Mon, 31 Mar 2025) EndedAt: 2025-03-31 23:58:06 -0400 (Mon, 31 Mar 2025) EllapsedTime: 915.8 seconds RetCode: 0 Status: OK CheckDir: metaseqR2.Rcheck Warnings: 0