Package: metaseqR2 Version: 1.18.0 Command: /Library/Frameworks/R.framework/Resources/bin/R CMD INSTALL metaseqR2 StartedAt: 2025-02-03 16:49:50 -0500 (Mon, 03 Feb 2025) EndedAt: 2025-02-03 16:52:27 -0500 (Mon, 03 Feb 2025) EllapsedTime: 157.6 seconds RetCode: 0 Status: OK