Package: metaseqR2 Version: 1.18.0 Command: /Library/Frameworks/R.framework/Resources/bin/R CMD check --install=check:metaseqR2.install-out.txt --library=/Library/Frameworks/R.framework/Resources/library --no-vignettes --timings metaseqR2_1.18.0.tar.gz StartedAt: 2025-02-05 01:11:44 -0500 (Wed, 05 Feb 2025) EndedAt: 2025-02-05 01:21:13 -0500 (Wed, 05 Feb 2025) EllapsedTime: 568.6 seconds RetCode: 0 Status: OK CheckDir: metaseqR2.Rcheck Warnings: 0