Package: metaseqR2 Version: 1.18.0 Command: rm -rf metaseqR2.buildbin-libdir && mkdir metaseqR2.buildbin-libdir && /Users/biocbuild/BBS/utils/build-universal.sh metaseqR2_1.18.0.tar.gz /Library/Frameworks/R.framework/Resources/bin/R metaseqR2.buildbin-libdir StartedAt: 2025-02-05 16:34:45 -0500 (Wed, 05 Feb 2025) EndedAt: 2025-02-05 16:36:17 -0500 (Wed, 05 Feb 2025) EllapsedTime: 92.6 seconds RetCode: 0 Status: OK PackageFile: metaseqR2_1.18.0.tgz PackageFileSize: 4.498 MiB