Package: metapone Version: 1.12.0 Command: /home/biocbuild/R/R/bin/R CMD INSTALL metapone StartedAt: 2025-03-31 20:52:49 -0000 (Mon, 31 Mar 2025) EndedAt: 2025-03-31 20:53:08 -0000 (Mon, 31 Mar 2025) EllapsedTime: 19.4 seconds RetCode: 0 Status: OK