Package: metapone Version: 1.12.0 Command: /home/biocbuild/R/R/bin/R CMD check --install=check:metapone.install-out.txt --library=/home/biocbuild/R/R/site-library --no-vignettes --timings metapone_1.12.0.tar.gz StartedAt: 2025-01-28 08:43:07 -0000 (Tue, 28 Jan 2025) EndedAt: 2025-01-28 08:46:54 -0000 (Tue, 28 Jan 2025) EllapsedTime: 226.2 seconds RetCode: 0 Status: OK CheckDir: metapone.Rcheck Warnings: 0