Package: metapone Version: 1.12.0 Command: /home/biocbuild/R/R/bin/R CMD build --keep-empty-dirs --no-resave-data metapone StartedAt: 2025-01-31 00:46:35 -0000 (Fri, 31 Jan 2025) EndedAt: 2025-01-31 01:26:36 -0000 (Fri, 31 Jan 2025) EllapsedTime: 2400.3 seconds RetCode: None Status: TIMEOUT PackageFile: None PackageFileSize: NA