Package: metapone Version: 1.12.0 Command: /Library/Frameworks/R.framework/Resources/bin/R CMD INSTALL metapone StartedAt: 2025-03-31 17:09:16 -0400 (Mon, 31 Mar 2025) EndedAt: 2025-03-31 17:09:35 -0400 (Mon, 31 Mar 2025) EllapsedTime: 18.8 seconds RetCode: 0 Status: OK