Package: metapone Version: 1.12.0 Command: /Library/Frameworks/R.framework/Resources/bin/R CMD check --install=check:metapone.install-out.txt --library=/Library/Frameworks/R.framework/Resources/library --no-vignettes --timings metapone_1.12.0.tar.gz StartedAt: 2025-02-01 00:30:33 -0500 (Sat, 01 Feb 2025) EndedAt: 2025-02-01 00:34:25 -0500 (Sat, 01 Feb 2025) EllapsedTime: 231.6 seconds RetCode: 0 Status: OK CheckDir: metapone.Rcheck Warnings: 0