Package: metapone Version: 1.12.0 Command: /Library/Frameworks/R.framework/Resources/bin/R CMD build --keep-empty-dirs --no-resave-data metapone StartedAt: 2025-01-31 02:50:08 -0500 (Fri, 31 Jan 2025) EndedAt: 2025-01-31 03:05:25 -0500 (Fri, 31 Jan 2025) EllapsedTime: 916.3 seconds RetCode: 0 Status: OK PackageFile: metapone_1.12.0.tar.gz PackageFileSize: 3.743 MiB