Package: metapod Version: 1.14.0 Command: /home/biocbuild/R/R/bin/R CMD build --keep-empty-dirs --no-resave-data metapod StartedAt: 2025-01-28 01:25:50 -0000 (Tue, 28 Jan 2025) EndedAt: 2025-01-28 01:26:28 -0000 (Tue, 28 Jan 2025) EllapsedTime: 38.0 seconds RetCode: 0 Status: OK PackageFile: metapod_1.14.0.tar.gz PackageFileSize: 390.5 KiB