Package: metapod Version: 1.14.0 Command: /home/biocbuild/bbs-3.20-bioc/R/bin/R CMD check --install=check:metapod.install-out.txt --library=/home/biocbuild/bbs-3.20-bioc/R/site-library --timings metapod_1.14.0.tar.gz StartedAt: 2025-01-28 00:40:45 -0500 (Tue, 28 Jan 2025) EndedAt: 2025-01-28 00:41:13 -0500 (Tue, 28 Jan 2025) EllapsedTime: 28.0 seconds RetCode: 0 Status: OK CheckDir: metapod.Rcheck Warnings: 0