Package: metapod Version: 1.14.0 Command: /home/biocbuild/bbs-3.20-bioc/R/bin/R CMD build --keep-empty-dirs --no-resave-data --md5 metapod StartedAt: 2025-01-27 18:53:07 -0500 (Mon, 27 Jan 2025) EndedAt: 2025-01-27 18:53:32 -0500 (Mon, 27 Jan 2025) EllapsedTime: 25.0 seconds RetCode: 0 Status: OK PackageFile: metapod_1.14.0.tar.gz PackageFileSize: 325.8 KiB