Package: metapod Version: 1.14.0 Command: /Library/Frameworks/R.framework/Resources/bin/R CMD INSTALL metapod StartedAt: 2025-01-27 15:07:09 -0500 (Mon, 27 Jan 2025) EndedAt: 2025-01-27 15:07:35 -0500 (Mon, 27 Jan 2025) EllapsedTime: 25.3 seconds RetCode: 0 Status: OK