Package: metapod Version: 1.14.0 Command: /Library/Frameworks/R.framework/Resources/bin/R CMD build --keep-empty-dirs --no-resave-data metapod StartedAt: 2025-01-28 02:48:16 -0500 (Tue, 28 Jan 2025) EndedAt: 2025-01-28 02:48:43 -0500 (Tue, 28 Jan 2025) EllapsedTime: 27.5 seconds RetCode: 0 Status: OK PackageFile: metapod_1.14.0.tar.gz PackageFileSize: 323.5 KiB