Package: metahdep Version: 1.64.0 Command: /home/biocbuild/R/R/bin/R CMD INSTALL metahdep StartedAt: 2025-03-31 20:11:03 -0000 (Mon, 31 Mar 2025) EndedAt: 2025-03-31 20:11:10 -0000 (Mon, 31 Mar 2025) EllapsedTime: 7.8 seconds RetCode: 1 Status: ERROR