Package: metahdep Version: 1.64.0 Command: chmod a+r metahdep -R && F:\biocbuild\bbs-3.20-bioc\R\bin\R.exe CMD build --keep-empty-dirs --no-resave-data metahdep StartedAt: 2025-03-31 20:02:17 -0400 (Mon, 31 Mar 2025) EndedAt: 2025-03-31 20:02:41 -0400 (Mon, 31 Mar 2025) EllapsedTime: 24.9 seconds RetCode: 0 Status: OK PackageFile: metahdep_1.64.0.tar.gz PackageFileSize: 446 KiB