Package: metahdep Version: 1.64.0 Command: /home/biocbuild/bbs-3.20-bioc/R/bin/R CMD check --install=check:metahdep.install-out.txt --library=/home/biocbuild/bbs-3.20-bioc/R/site-library --timings metahdep_1.64.0.tar.gz StartedAt: 2025-03-31 23:42:10 -0400 (Mon, 31 Mar 2025) EndedAt: 2025-03-31 23:42:34 -0400 (Mon, 31 Mar 2025) EllapsedTime: 24.0 seconds RetCode: 0 Status: WARNINGS CheckDir: metahdep.Rcheck Warnings: 1