Package: metahdep Version: 1.64.0 Command: /Library/Frameworks/R.framework/Resources/bin/R CMD INSTALL metahdep StartedAt: 2025-03-31 15:03:48 -0400 (Mon, 31 Mar 2025) EndedAt: 2025-03-31 15:03:56 -0400 (Mon, 31 Mar 2025) EllapsedTime: 8.4 seconds RetCode: 0 Status: OK