Package: metahdep Version: 1.64.0 Command: /Library/Frameworks/R.framework/Resources/bin/R CMD check --install=check:metahdep.install-out.txt --library=/Library/Frameworks/R.framework/Resources/library --no-vignettes --timings metahdep_1.64.0.tar.gz StartedAt: 2025-04-02 00:09:38 -0400 (Wed, 02 Apr 2025) EndedAt: 2025-04-02 00:10:08 -0400 (Wed, 02 Apr 2025) EllapsedTime: 30.1 seconds RetCode: 0 Status: WARNINGS CheckDir: metahdep.Rcheck Warnings: 1