Package: metahdep Version: 1.64.0 Command: /Library/Frameworks/R.framework/Resources/bin/R CMD build --keep-empty-dirs --no-resave-data metahdep StartedAt: 2025-01-28 02:47:37 -0500 (Tue, 28 Jan 2025) EndedAt: 2025-01-28 02:47:51 -0500 (Tue, 28 Jan 2025) EllapsedTime: 13.7 seconds RetCode: 0 Status: OK PackageFile: metahdep_1.64.0.tar.gz PackageFileSize: 551.3 KiB