Package: metahdep Version: 1.64.0 Command: rm -rf metahdep.buildbin-libdir && mkdir metahdep.buildbin-libdir && /Users/biocbuild/BBS/utils/build-universal.sh metahdep_1.64.0.tar.gz /Library/Frameworks/R.framework/Resources/bin/R metahdep.buildbin-libdir StartedAt: 2025-04-02 15:04:50 -0400 (Wed, 02 Apr 2025) EndedAt: 2025-04-02 15:04:57 -0400 (Wed, 02 Apr 2025) EllapsedTime: 6.8 seconds RetCode: 0 Status: OK PackageFile: metahdep_1.64.0.tgz PackageFileSize: 650.2 KiB