Package: metabomxtr Version: 1.40.0 Command: /Library/Frameworks/R.framework/Resources/bin/R CMD check --install=check:metabomxtr.install-out.txt --library=/Library/Frameworks/R.framework/Resources/library --no-vignettes --timings metabomxtr_1.40.0.tar.gz StartedAt: 2025-04-01 05:20:06 -0400 (Tue, 01 Apr 2025) EndedAt: 2025-04-01 05:22:36 -0400 (Tue, 01 Apr 2025) EllapsedTime: 150.6 seconds RetCode: 0 Status: OK CheckDir: metabomxtr.Rcheck Warnings: 0