Package: metabomxtr Version: 1.40.0 Command: rm -rf metabomxtr.buildbin-libdir && mkdir metabomxtr.buildbin-libdir && /Users/biocbuild/BBS/utils/build-universal.sh metabomxtr_1.40.0.tar.gz /Library/Frameworks/R.framework/Resources/bin/R metabomxtr.buildbin-libdir StartedAt: 2025-04-01 12:12:04 -0400 (Tue, 01 Apr 2025) EndedAt: 2025-04-01 12:12:27 -0400 (Tue, 01 Apr 2025) EllapsedTime: 23.0 seconds RetCode: 0 Status: OK PackageFile: metabomxtr_1.40.0.tgz PackageFileSize: 649.2 KiB