Package: metabolomicsWorkbenchR Version: 1.16.0 Command: /Library/Frameworks/R.framework/Resources/bin/R CMD INSTALL metabolomicsWorkbenchR StartedAt: 2025-01-27 15:27:58 -0500 (Mon, 27 Jan 2025) EndedAt: 2025-01-27 15:28:35 -0500 (Mon, 27 Jan 2025) EllapsedTime: 37.8 seconds RetCode: 0 Status: OK