Package: metabinR Version: 1.8.0 Command: /home/biocbuild/R/R/bin/R CMD INSTALL metabinR StartedAt: 2025-01-27 21:06:18 -0000 (Mon, 27 Jan 2025) EndedAt: 2025-01-27 21:06:50 -0000 (Mon, 27 Jan 2025) EllapsedTime: 32.2 seconds RetCode: 0 Status: OK