Package: metabinR Version: 1.8.0 Command: chmod a+r metabinR -R && F:\biocbuild\bbs-3.20-bioc\R\bin\R.exe CMD build --keep-empty-dirs --no-resave-data metabinR StartedAt: 2025-01-27 19:59:20 -0500 (Mon, 27 Jan 2025) EndedAt: 2025-01-27 20:00:26 -0500 (Mon, 27 Jan 2025) EllapsedTime: 66.6 seconds RetCode: 0 Status: OK PackageFile: metabinR_1.8.0.tar.gz PackageFileSize: 4.355 MiB