Package: metabinR Version: 1.8.0 Command: /home/biocbuild/bbs-3.20-bioc/R/bin/R CMD INSTALL metabinR StartedAt: 2025-03-31 15:11:36 -0400 (Mon, 31 Mar 2025) EndedAt: 2025-03-31 15:11:54 -0400 (Mon, 31 Mar 2025) EllapsedTime: 18.3 seconds RetCode: 0 Status: OK