Package: metabinR Version: 1.8.0 Command: /Library/Frameworks/R.framework/Resources/bin/R CMD INSTALL metabinR StartedAt: 2025-03-31 15:12:35 -0400 (Mon, 31 Mar 2025) EndedAt: 2025-03-31 15:12:38 -0400 (Mon, 31 Mar 2025) EllapsedTime: 3.1 seconds RetCode: 0 Status: OK