Package: metaSeq Version: 1.46.0 Command: chmod a+r metaSeq -R && F:\biocbuild\bbs-3.20-bioc\R\bin\R.exe CMD build --keep-empty-dirs --no-resave-data metaSeq StartedAt: 2025-03-31 20:02:55 -0400 (Mon, 31 Mar 2025) EndedAt: 2025-03-31 20:03:19 -0400 (Mon, 31 Mar 2025) EllapsedTime: 23.3 seconds RetCode: 0 Status: OK PackageFile: metaSeq_1.46.0.tar.gz PackageFileSize: 6.084 MiB