Package: metaSeq Version: 1.46.0 Command: /home/biocbuild/bbs-3.20-bioc/R/bin/R CMD INSTALL metaSeq StartedAt: 2025-03-31 15:09:57 -0400 (Mon, 31 Mar 2025) EndedAt: 2025-03-31 15:10:27 -0400 (Mon, 31 Mar 2025) EllapsedTime: 30.3 seconds RetCode: 0 Status: OK