Package: metaMS Version: 1.42.0 Command: rm -rf metaMS.buildbin-libdir && mkdir metaMS.buildbin-libdir && F:\biocbuild\bbs-3.20-bioc\R\bin\R.exe CMD INSTALL --build --library=metaMS.buildbin-libdir metaMS_1.42.0.tar.gz StartedAt: 2025-02-04 08:53:01 -0500 (Tue, 04 Feb 2025) EndedAt: 2025-02-04 08:54:27 -0500 (Tue, 04 Feb 2025) EllapsedTime: 86.1 seconds RetCode: 0 Status: OK PackageFile: metaMS_1.42.0.zip PackageFileSize: 4.034 MiB