Package: metaCCA Version: 1.34.0 Command: /home/biocbuild/R/R/bin/R CMD INSTALL metaCCA StartedAt: 2025-01-27 21:44:36 -0000 (Mon, 27 Jan 2025) EndedAt: 2025-01-27 21:44:41 -0000 (Mon, 27 Jan 2025) EllapsedTime: 5.8 seconds RetCode: 0 Status: OK