Package: metaCCA Version: 1.34.0 Command: /home/biocbuild/bbs-3.20-bioc/R/bin/R CMD check --install=check:metaCCA.install-out.txt --library=/home/biocbuild/bbs-3.20-bioc/R/site-library --timings metaCCA_1.34.0.tar.gz StartedAt: 2025-01-28 00:40:00 -0500 (Tue, 28 Jan 2025) EndedAt: 2025-01-28 00:40:21 -0500 (Tue, 28 Jan 2025) EllapsedTime: 21.0 seconds RetCode: 0 Status: WARNINGS CheckDir: metaCCA.Rcheck Warnings: 1