Package: metaCCA Version: 1.34.0 Command: /Library/Frameworks/R.framework/Resources/bin/R CMD check --install=check:metaCCA.install-out.txt --library=/Library/Frameworks/R.framework/Resources/library --no-vignettes --timings metaCCA_1.34.0.tar.gz StartedAt: 2025-01-28 06:15:13 -0500 (Tue, 28 Jan 2025) EndedAt: 2025-01-28 06:16:02 -0500 (Tue, 28 Jan 2025) EllapsedTime: 49.3 seconds RetCode: 0 Status: WARNINGS CheckDir: metaCCA.Rcheck Warnings: 1