Package: metaCCA Version: 1.34.0 Command: /Library/Frameworks/R.framework/Resources/bin/R CMD build --keep-empty-dirs --no-resave-data metaCCA StartedAt: 2025-01-27 20:17:32 -0500 (Mon, 27 Jan 2025) EndedAt: 2025-01-27 20:18:13 -0500 (Mon, 27 Jan 2025) EllapsedTime: 40.7 seconds RetCode: 0 Status: OK PackageFile: metaCCA_1.34.0.tar.gz PackageFileSize: 923.7 KiB