Package: messina Version: 1.42.0 Command: /home/biocbuild/R/R/bin/R CMD check --install=check:messina.install-out.txt --library=/home/biocbuild/R/R/site-library --no-vignettes --timings messina_1.42.0.tar.gz StartedAt: 2025-04-01 08:03:57 -0000 (Tue, 01 Apr 2025) EndedAt: 2025-04-01 08:07:07 -0000 (Tue, 01 Apr 2025) EllapsedTime: 190.3 seconds RetCode: 0 Status: WARNINGS CheckDir: messina.Rcheck Warnings: 1