Package: messina Version: 1.42.0 Command: /home/biocbuild/R/R/bin/R CMD build --keep-empty-dirs --no-resave-data messina StartedAt: 2025-04-01 00:38:15 -0000 (Tue, 01 Apr 2025) EndedAt: 2025-04-01 00:40:05 -0000 (Tue, 01 Apr 2025) EllapsedTime: 110.0 seconds RetCode: 0 Status: OK PackageFile: messina_1.42.0.tar.gz PackageFileSize: 291.8 KiB