Package: messina Version: 1.42.0 Command: rm -rf messina.buildbin-libdir && mkdir messina.buildbin-libdir && /Users/biocbuild/BBS/utils/build-universal.sh messina_1.42.0.tar.gz /Library/Frameworks/R.framework/Resources/bin/R messina.buildbin-libdir StartedAt: 2025-01-28 13:38:10 -0500 (Tue, 28 Jan 2025) EndedAt: 2025-01-28 13:39:23 -0500 (Tue, 28 Jan 2025) EllapsedTime: 72.9 seconds RetCode: 0 Status: OK PackageFile: messina_1.42.0.tgz PackageFileSize: 536.4 KiB