Package: meshr Version: 2.12.0 Command: /home/biocbuild/R/R/bin/R CMD INSTALL meshr StartedAt: 2025-01-27 21:50:07 -0000 (Mon, 27 Jan 2025) EndedAt: 2025-01-27 21:50:34 -0000 (Mon, 27 Jan 2025) EllapsedTime: 27.3 seconds RetCode: 0 Status: OK