Package: meshr Version: 2.12.0 Command: chmod a+r meshr -R && F:\biocbuild\bbs-3.20-bioc\R\bin\R.exe CMD build --keep-empty-dirs --no-resave-data meshr StartedAt: 2025-02-03 20:12:45 -0500 (Mon, 03 Feb 2025) EndedAt: 2025-02-03 20:13:30 -0500 (Mon, 03 Feb 2025) EllapsedTime: 44.7 seconds RetCode: 0 Status: OK PackageFile: meshr_2.12.0.tar.gz PackageFileSize: 1002 KiB