Package: meshr Version: 2.12.0 Command: rm -rf meshr.buildbin-libdir && mkdir meshr.buildbin-libdir && F:\biocbuild\bbs-3.20-bioc\R\bin\R.exe CMD INSTALL --build --library=meshr.buildbin-libdir meshr_2.12.0.tar.gz StartedAt: 2025-01-28 08:30:57 -0500 (Tue, 28 Jan 2025) EndedAt: 2025-01-28 08:31:47 -0500 (Tue, 28 Jan 2025) EllapsedTime: 49.3 seconds RetCode: 0 Status: OK PackageFile: meshr_2.12.0.zip PackageFileSize: 931.2 KiB