Package: meshes Version: 1.32.0 Command: /home/biocbuild/R/R/bin/R CMD check --install=check:meshes.install-out.txt --library=/home/biocbuild/R/R/site-library --no-vignettes --timings meshes_1.32.0.tar.gz StartedAt: 2025-01-28 08:39:46 -0000 (Tue, 28 Jan 2025) EndedAt: 2025-01-28 08:43:07 -0000 (Tue, 28 Jan 2025) EllapsedTime: 201.3 seconds RetCode: 0 Status: OK CheckDir: meshes.Rcheck Warnings: 0