Package: meshes Version: 1.32.0 Command: chmod a+r meshes -R && F:\biocbuild\bbs-3.20-bioc\R\bin\R.exe CMD build --keep-empty-dirs --no-resave-data meshes StartedAt: 2025-02-03 20:12:39 -0500 (Mon, 03 Feb 2025) EndedAt: 2025-02-03 20:13:18 -0500 (Mon, 03 Feb 2025) EllapsedTime: 39.7 seconds RetCode: 0 Status: OK PackageFile: meshes_1.32.0.tar.gz PackageFileSize: 922.1 KiB