Package: meshes Version: 1.32.0 Command: rm -rf meshes.buildbin-libdir && mkdir meshes.buildbin-libdir && F:\biocbuild\bbs-3.20-bioc\R\bin\R.exe CMD INSTALL --build --library=meshes.buildbin-libdir meshes_1.32.0.tar.gz StartedAt: 2025-02-04 08:52:24 -0500 (Tue, 04 Feb 2025) EndedAt: 2025-02-04 08:52:56 -0500 (Tue, 04 Feb 2025) EllapsedTime: 31.6 seconds RetCode: 0 Status: OK PackageFile: meshes_1.32.0.zip PackageFileSize: 1.3 MiB