Package: meshes Version: 1.32.0 Command: /home/biocbuild/bbs-3.20-bioc/R/bin/R CMD build --keep-empty-dirs --no-resave-data --md5 meshes StartedAt: 2025-02-03 18:06:33 -0500 (Mon, 03 Feb 2025) EndedAt: 2025-02-03 18:06:58 -0500 (Mon, 03 Feb 2025) EllapsedTime: 25.0 seconds RetCode: 0 Status: OK PackageFile: meshes_1.32.0.tar.gz PackageFileSize: 923.4 KiB