Package: memes Version: 1.14.0 Command: /home/biocbuild/R/R/bin/R CMD check --install=check:memes.install-out.txt --library=/home/biocbuild/R/R/site-library --no-vignettes --timings memes_1.14.0.tar.gz StartedAt: 2025-02-04 08:32:54 -0000 (Tue, 04 Feb 2025) EndedAt: 2025-02-04 08:35:24 -0000 (Tue, 04 Feb 2025) EllapsedTime: 150.2 seconds RetCode: 1 Status: ERROR CheckDir: memes.Rcheck Warnings: NA