Package: memes Version: 1.14.0 Command: /home/biocbuild/R/R/bin/R CMD build --keep-empty-dirs --no-resave-data memes StartedAt: 2025-02-04 00:45:34 -0000 (Tue, 04 Feb 2025) EndedAt: 2025-02-04 00:46:39 -0000 (Tue, 04 Feb 2025) EllapsedTime: 65.0 seconds RetCode: 0 Status: OK PackageFile: memes_1.14.0.tar.gz PackageFileSize: 1.018 MiB