Package: memes Version: 1.14.0 Command: /Library/Frameworks/R.framework/Resources/bin/R CMD INSTALL memes StartedAt: 2025-03-31 17:02:17 -0400 (Mon, 31 Mar 2025) EndedAt: 2025-03-31 17:02:32 -0400 (Mon, 31 Mar 2025) EllapsedTime: 15.4 seconds RetCode: 0 Status: OK